Package: MsBackendMassbank Version: 1.14.0 Command: chmod a+r MsBackendMassbank -R && F:\biocbuild\bbs-3.20-bioc\R\bin\R.exe CMD build --keep-empty-dirs --no-resave-data MsBackendMassbank StartedAt: 2025-02-03 20:34:40 -0500 (Mon, 03 Feb 2025) EndedAt: 2025-02-03 20:35:48 -0500 (Mon, 03 Feb 2025) EllapsedTime: 68.3 seconds RetCode: 0 Status: OK PackageFile: MsBackendMassbank_1.14.0.tar.gz PackageFileSize: 396.5 KiB