Package: MsBackendMetaboLights Version: 1.0.0 Command: /Library/Frameworks/R.framework/Resources/bin/R CMD build --keep-empty-dirs --no-resave-data MsBackendMetaboLights StartedAt: 2025-02-03 20:36:33 -0500 (Mon, 03 Feb 2025) EndedAt: 2025-02-03 20:37:45 -0500 (Mon, 03 Feb 2025) EllapsedTime: 71.6 seconds RetCode: 0 Status: OK PackageFile: MsBackendMetaboLights_1.0.0.tar.gz PackageFileSize: 308.2 KiB