Package: MsBackendMetaboLights Version: 1.0.0 Command: /Library/Frameworks/R.framework/Resources/bin/R CMD INSTALL MsBackendMetaboLights StartedAt: 2025-02-03 15:34:15 -0500 (Mon, 03 Feb 2025) EndedAt: 2025-02-03 15:34:45 -0500 (Mon, 03 Feb 2025) EllapsedTime: 30.1 seconds RetCode: 0 Status: OK