Package: MsBackendMetaboLights Version: 1.0.0 Command: /home/biocbuild/bbs-3.20-bioc/R/bin/R CMD check --install=check:MsBackendMetaboLights.install-out.txt --library=/home/biocbuild/bbs-3.20-bioc/R/site-library --timings MsBackendMetaboLights_1.0.0.tar.gz StartedAt: 2025-02-04 00:26:14 -0500 (Tue, 04 Feb 2025) EndedAt: 2025-02-04 00:30:57 -0500 (Tue, 04 Feb 2025) EllapsedTime: 283.3 seconds RetCode: 1 Status: ERROR CheckDir: MsBackendMetaboLights.Rcheck Warnings: NA