Package: MsBackendMetaboLights Version: 1.0.0 Command: rm -rf MsBackendMetaboLights.buildbin-libdir && mkdir MsBackendMetaboLights.buildbin-libdir && F:\biocbuild\bbs-3.20-bioc\R\bin\R.exe CMD INSTALL --build --library=MsBackendMetaboLights.buildbin-libdir MsBackendMetaboLights_1.0.0.tar.gz StartedAt: 2025-02-11 08:56:51 -0500 (Tue, 11 Feb 2025) EndedAt: 2025-02-11 08:57:49 -0500 (Tue, 11 Feb 2025) EllapsedTime: 58.4 seconds RetCode: 0 Status: OK PackageFile: MsBackendMetaboLights_1.0.0.zip PackageFileSize: 353.2 KiB