Package: MsBackendMgf Version: 1.14.0 Command: rm -rf MsBackendMgf.buildbin-libdir && mkdir MsBackendMgf.buildbin-libdir && /Users/biocbuild/BBS/utils/build-universal.sh MsBackendMgf_1.14.0.tar.gz /Library/Frameworks/R.framework/Resources/bin/R MsBackendMgf.buildbin-libdir StartedAt: 2025-02-05 16:48:00 -0500 (Wed, 05 Feb 2025) EndedAt: 2025-02-05 16:48:12 -0500 (Wed, 05 Feb 2025) EllapsedTime: 12.5 seconds RetCode: 0 Status: OK PackageFile: MsBackendMgf_1.14.0.tgz PackageFileSize: 368.4 KiB