Package: MsBackendMgf Version: 1.14.0 Command: /Library/Frameworks/R.framework/Resources/bin/R CMD check --install=check:MsBackendMgf.install-out.txt --library=/Library/Frameworks/R.framework/Resources/library --no-vignettes --timings MsBackendMgf_1.14.0.tar.gz StartedAt: 2025-02-12 02:20:50 -0500 (Wed, 12 Feb 2025) EndedAt: 2025-02-12 02:22:13 -0500 (Wed, 12 Feb 2025) EllapsedTime: 82.5 seconds RetCode: 0 Status: OK CheckDir: MsBackendMgf.Rcheck Warnings: 0