Package: MsBackendMgf Version: 1.14.0 Command: /home/biocbuild/bbs-3.20-bioc/R/bin/R CMD check --install=check:MsBackendMgf.install-out.txt --library=/home/biocbuild/bbs-3.20-bioc/R/site-library --timings MsBackendMgf_1.14.0.tar.gz StartedAt: 2025-02-11 00:16:12 -0500 (Tue, 11 Feb 2025) EndedAt: 2025-02-11 00:17:28 -0500 (Tue, 11 Feb 2025) EllapsedTime: 76.1 seconds RetCode: 0 Status: OK CheckDir: MsBackendMgf.Rcheck Warnings: 0