Package: MsBackendMgf Version: 1.14.0 Command: rm -rf MsBackendMgf.buildbin-libdir && mkdir MsBackendMgf.buildbin-libdir && F:\biocbuild\bbs-3.20-bioc\R\bin\R.exe CMD INSTALL --build --library=MsBackendMgf.buildbin-libdir MsBackendMgf_1.14.0.tar.gz StartedAt: 2025-02-04 08:59:45 -0500 (Tue, 04 Feb 2025) EndedAt: 2025-02-04 09:00:05 -0500 (Tue, 04 Feb 2025) EllapsedTime: 19.6 seconds RetCode: 0 Status: OK PackageFile: MsBackendMgf_1.14.0.zip PackageFileSize: 371.8 KiB