Package: MsBackendMgf Version: 1.14.0 Command: /home/biocbuild/R/R/bin/R CMD build --keep-empty-dirs --no-resave-data MsBackendMgf StartedAt: 2025-02-11 00:59:31 -0000 (Tue, 11 Feb 2025) EndedAt: 2025-02-11 00:59:51 -0000 (Tue, 11 Feb 2025) EllapsedTime: 20.0 seconds RetCode: 0 Status: OK PackageFile: MsBackendMgf_1.14.0.tar.gz PackageFileSize: 394 KiB