Package: MsBackendSql Version: 1.6.0 Command: /Library/Frameworks/R.framework/Resources/bin/R CMD build --keep-empty-dirs --no-resave-data MsBackendSql StartedAt: 2025-02-04 04:07:41 -0500 (Tue, 04 Feb 2025) EndedAt: 2025-02-04 04:09:14 -0500 (Tue, 04 Feb 2025) EllapsedTime: 93.0 seconds RetCode: 0 Status: OK PackageFile: MsBackendSql_1.6.0.tar.gz PackageFileSize: 337.4 KiB