Package: MsBackendSql Version: 1.6.0 Command: /Library/Frameworks/R.framework/Resources/bin/R CMD build --keep-empty-dirs --no-resave-data MsBackendSql StartedAt: 2025-02-03 20:37:45 -0500 (Mon, 03 Feb 2025) EndedAt: 2025-02-03 20:40:40 -0500 (Mon, 03 Feb 2025) EllapsedTime: 175.8 seconds RetCode: 0 Status: OK PackageFile: MsBackendSql_1.6.0.tar.gz PackageFileSize: 337.4 KiB