Package: MsBackendSql Version: 1.6.0 Command: chmod a+r MsBackendSql -R && F:\biocbuild\bbs-3.20-bioc\R\bin\R.exe CMD build --keep-empty-dirs --no-resave-data MsBackendSql StartedAt: 2025-02-03 20:35:27 -0500 (Mon, 03 Feb 2025) EndedAt: 2025-02-03 20:41:22 -0500 (Mon, 03 Feb 2025) EllapsedTime: 355.9 seconds RetCode: 0 Status: OK PackageFile: MsBackendSql_1.6.0.tar.gz PackageFileSize: 337.7 KiB