Package: MsCoreUtils Version: 1.18.0 Command: /Library/Frameworks/R.framework/Resources/bin/R CMD build --keep-empty-dirs --no-resave-data MsCoreUtils StartedAt: 2025-02-04 04:07:42 -0500 (Tue, 04 Feb 2025) EndedAt: 2025-02-04 04:07:56 -0500 (Tue, 04 Feb 2025) EllapsedTime: 14.7 seconds RetCode: 0 Status: OK PackageFile: MsCoreUtils_1.18.0.tar.gz PackageFileSize: 412 KiB