Package: MsCoreUtils Version: 1.18.0 Command: /Library/Frameworks/R.framework/Resources/bin/R CMD check --install=check:MsCoreUtils.install-out.txt --library=/Library/Frameworks/R.framework/Resources/library --no-vignettes --timings MsCoreUtils_1.18.0.tar.gz StartedAt: 2025-02-01 02:15:51 -0500 (Sat, 01 Feb 2025) EndedAt: 2025-02-01 02:20:31 -0500 (Sat, 01 Feb 2025) EllapsedTime: 279.5 seconds RetCode: 0 Status: OK CheckDir: MsCoreUtils.Rcheck Warnings: 0