Package: MsCoreUtils Version: 1.18.0 Command: /home/biocbuild/R/R/bin/R CMD build --keep-empty-dirs --no-resave-data MsCoreUtils StartedAt: 2024-11-20 02:22:24 -0000 (Wed, 20 Nov 2024) EndedAt: 2024-11-20 02:22:38 -0000 (Wed, 20 Nov 2024) EllapsedTime: 14.0 seconds RetCode: 0 Status: OK PackageFile: MsCoreUtils_1.18.0.tar.gz PackageFileSize: 477 KiB