Package: MsCoreUtils Version: 1.18.0 Command: rm -rf MsCoreUtils.buildbin-libdir && mkdir MsCoreUtils.buildbin-libdir && F:\biocbuild\bbs-3.20-bioc\R\bin\R.exe CMD INSTALL --build --library=MsCoreUtils.buildbin-libdir MsCoreUtils_1.18.0.tar.gz StartedAt: 2025-02-04 08:59:56 -0500 (Tue, 04 Feb 2025) EndedAt: 2025-02-04 09:00:24 -0500 (Tue, 04 Feb 2025) EllapsedTime: 28.5 seconds RetCode: 0 Status: OK PackageFile: MsCoreUtils_1.18.0.zip PackageFileSize: 537.7 KiB