Package: MsCoreUtils Version: 1.18.0 Command: chmod a+r MsCoreUtils -R && F:\biocbuild\bbs-3.20-bioc\R\bin\R.exe CMD build --keep-empty-dirs --no-resave-data MsCoreUtils StartedAt: 2025-02-03 20:35:29 -0500 (Mon, 03 Feb 2025) EndedAt: 2025-02-03 20:36:02 -0500 (Mon, 03 Feb 2025) EllapsedTime: 33.0 seconds RetCode: 0 Status: OK PackageFile: MsCoreUtils_1.18.0.tar.gz PackageFileSize: 412.2 KiB