Package: MsCoreUtils Version: 1.18.0 Command: /home/biocbuild/R/R/bin/R CMD build --keep-empty-dirs --no-resave-data MsCoreUtils StartedAt: 2025-02-04 01:12:15 -0000 (Tue, 04 Feb 2025) EndedAt: 2025-02-04 01:12:28 -0000 (Tue, 04 Feb 2025) EllapsedTime: 13.0 seconds RetCode: 0 Status: OK PackageFile: MsCoreUtils_1.18.0.tar.gz PackageFileSize: 477 KiB