Package: MsCoreUtils Version: 1.18.0 Command: /home/biocbuild/R/R/bin/R CMD check --install=check:MsCoreUtils.install-out.txt --library=/home/biocbuild/R/R/site-library --no-vignettes --timings MsCoreUtils_1.18.0.tar.gz StartedAt: 2025-02-04 09:05:05 -0000 (Tue, 04 Feb 2025) EndedAt: 2025-02-04 09:07:26 -0000 (Tue, 04 Feb 2025) EllapsedTime: 141.2 seconds RetCode: 0 Status: OK CheckDir: MsCoreUtils.Rcheck Warnings: 0