Package: MsCoreUtils Version: 1.18.0 Command: /home/biocbuild/R/R/bin/R CMD INSTALL MsCoreUtils StartedAt: 2025-02-03 20:24:45 -0000 (Mon, 03 Feb 2025) EndedAt: 2025-02-03 20:25:14 -0000 (Mon, 03 Feb 2025) EllapsedTime: 29.2 seconds RetCode: 0 Status: OK