Package: MsCoreUtils Version: 1.18.0 Command: /home/biocbuild/bbs-3.20-bioc/R/bin/R CMD check --install=check:MsCoreUtils.install-out.txt --library=/home/biocbuild/bbs-3.20-bioc/R/site-library --timings MsCoreUtils_1.18.0.tar.gz StartedAt: 2024-11-20 06:13:55 -0500 (Wed, 20 Nov 2024) EndedAt: 2024-11-20 06:15:29 -0500 (Wed, 20 Nov 2024) EllapsedTime: 94.1 seconds RetCode: 0 Status: OK CheckDir: MsCoreUtils.Rcheck Warnings: 0