Package: MsDataHub Version: 1.6.0 Command: /Library/Frameworks/R.framework/Resources/bin/R CMD check --install=check:MsDataHub.install-out.txt --library=/Library/Frameworks/R.framework/Resources/library --no-vignettes --timings MsDataHub_1.6.0.tar.gz StartedAt: 2025-02-12 02:22:31 -0500 (Wed, 12 Feb 2025) EndedAt: 2025-02-12 02:24:33 -0500 (Wed, 12 Feb 2025) EllapsedTime: 122.4 seconds RetCode: 0 Status: OK CheckDir: MsDataHub.Rcheck Warnings: 0