Package: MsDataHub Version: 1.6.0 Command: /Library/Frameworks/R.framework/Resources/bin/R CMD INSTALL MsDataHub StartedAt: 2025-02-03 15:40:59 -0500 (Mon, 03 Feb 2025) EndedAt: 2025-02-03 15:41:08 -0500 (Mon, 03 Feb 2025) EllapsedTime: 8.7 seconds RetCode: 0 Status: OK