Package: MsDataHub Version: 1.6.0 Command: /Library/Frameworks/R.framework/Resources/bin/R CMD build --keep-empty-dirs --no-resave-data MsDataHub StartedAt: 2025-02-03 20:38:02 -0500 (Mon, 03 Feb 2025) EndedAt: 2025-02-03 20:45:27 -0500 (Mon, 03 Feb 2025) EllapsedTime: 444.6 seconds RetCode: 0 Status: OK PackageFile: MsDataHub_1.6.0.tar.gz PackageFileSize: 368.7 KiB