Package: MsDataHub Version: 1.6.0 Command: /Library/Frameworks/R.framework/Resources/bin/R CMD check --install=check:MsDataHub.install-out.txt --library=/Library/Frameworks/R.framework/Resources/library --no-vignettes --timings MsDataHub_1.6.0.tar.gz StartedAt: 2025-02-04 06:51:19 -0500 (Tue, 04 Feb 2025) EndedAt: 2025-02-04 06:55:15 -0500 (Tue, 04 Feb 2025) EllapsedTime: 236.5 seconds RetCode: 0 Status: OK CheckDir: MsDataHub.Rcheck Warnings: 0