Package: MsExperiment Version: 1.8.0 Command: /Library/Frameworks/R.framework/Resources/bin/R CMD build --keep-empty-dirs --no-resave-data MsExperiment StartedAt: 2025-01-31 04:00:48 -0500 (Fri, 31 Jan 2025) EndedAt: 2025-01-31 04:02:15 -0500 (Fri, 31 Jan 2025) EllapsedTime: 86.5 seconds RetCode: 0 Status: OK PackageFile: MsExperiment_1.8.0.tar.gz PackageFileSize: 1.89 MiB