Package: MsExperiment Version: 1.8.0 Command: rm -rf MsExperiment.buildbin-libdir && mkdir MsExperiment.buildbin-libdir && F:\biocbuild\bbs-3.20-bioc\R\bin\R.exe CMD INSTALL --build --library=MsExperiment.buildbin-libdir MsExperiment_1.8.0.tar.gz StartedAt: 2025-01-31 09:06:54 -0500 (Fri, 31 Jan 2025) EndedAt: 2025-01-31 09:07:41 -0500 (Fri, 31 Jan 2025) EllapsedTime: 47.3 seconds RetCode: 0 Status: OK PackageFile: MsExperiment_1.8.0.zip PackageFileSize: 1.453 MiB