Package: MsExperiment Version: 1.8.0 Command: chmod a+r MsExperiment -R && F:\biocbuild\bbs-3.20-bioc\R\bin\R.exe CMD build --keep-empty-dirs --no-resave-data MsExperiment StartedAt: 2025-01-30 20:21:32 -0500 (Thu, 30 Jan 2025) EndedAt: 2025-01-30 20:24:14 -0500 (Thu, 30 Jan 2025) EllapsedTime: 162.4 seconds RetCode: 0 Status: OK PackageFile: MsExperiment_1.8.0.tar.gz PackageFileSize: 1.882 MiB