Package: MsExperiment Version: 1.8.0 Command: /home/biocbuild/R/R/bin/R CMD INSTALL MsExperiment StartedAt: 2025-01-30 20:42:14 -0000 (Thu, 30 Jan 2025) EndedAt: 2025-01-30 20:42:52 -0000 (Thu, 30 Jan 2025) EllapsedTime: 38.2 seconds RetCode: 0 Status: OK