Package: MsFeatures Version: 1.14.0 Command: /Library/Frameworks/R.framework/Resources/bin/R CMD check --install=check:MsFeatures.install-out.txt --library=/Library/Frameworks/R.framework/Resources/library --no-vignettes --timings MsFeatures_1.14.0.tar.gz StartedAt: 2025-02-05 02:58:44 -0500 (Wed, 05 Feb 2025) EndedAt: 2025-02-05 03:01:41 -0500 (Wed, 05 Feb 2025) EllapsedTime: 176.3 seconds RetCode: 0 Status: OK CheckDir: MsFeatures.Rcheck Warnings: 0