Package: MsFeatures Version: 1.14.0 Command: chmod a+r MsFeatures -R && F:\biocbuild\bbs-3.20-bioc\R\bin\R.exe CMD build --keep-empty-dirs --no-resave-data MsFeatures StartedAt: 2025-02-03 20:35:34 -0500 (Mon, 03 Feb 2025) EndedAt: 2025-02-03 20:36:23 -0500 (Mon, 03 Feb 2025) EllapsedTime: 49.1 seconds RetCode: 0 Status: OK PackageFile: MsFeatures_1.14.0.tar.gz PackageFileSize: 841.8 KiB