Package: MsFeatures Version: 1.14.0 Command: F:\biocbuild\bbs-3.20-bioc\R\bin\R.exe CMD check --no-multiarch --install=check:MsFeatures.install-out.txt --library=F:\biocbuild\bbs-3.20-bioc\R\library --no-vignettes --timings MsFeatures_1.14.0.tar.gz StartedAt: 2025-02-04 04:05:06 -0500 (Tue, 04 Feb 2025) EndedAt: 2025-02-04 04:07:59 -0500 (Tue, 04 Feb 2025) EllapsedTime: 172.8 seconds RetCode: 0 Status: OK CheckDir: MsFeatures.Rcheck Warnings: 0