Package: MuData Version: 1.10.0 Command: rm -rf MuData.buildbin-libdir && mkdir MuData.buildbin-libdir && /Users/biocbuild/BBS/utils/build-universal.sh MuData_1.10.0.tar.gz /Library/Frameworks/R.framework/Resources/bin/R MuData.buildbin-libdir StartedAt: 2025-02-01 15:56:07 -0500 (Sat, 01 Feb 2025) EndedAt: 2025-02-01 15:56:40 -0500 (Sat, 01 Feb 2025) EllapsedTime: 33.1 seconds RetCode: 0 Status: OK PackageFile: MuData_1.10.0.tgz PackageFileSize: 2.294 MiB