Package: MuData Version: 1.10.0 Command: /Library/Frameworks/R.framework/Resources/bin/R CMD build --keep-empty-dirs --no-resave-data MuData StartedAt: 2025-01-31 04:10:09 -0500 (Fri, 31 Jan 2025) EndedAt: 2025-01-31 04:13:55 -0500 (Fri, 31 Jan 2025) EllapsedTime: 225.5 seconds RetCode: 0 Status: OK PackageFile: MuData_1.10.0.tar.gz PackageFileSize: 2.25 MiB