Package: MuData Version: 1.10.0 Command: /Library/Frameworks/R.framework/Resources/bin/R CMD INSTALL MuData StartedAt: 2025-01-30 15:27:50 -0500 (Thu, 30 Jan 2025) EndedAt: 2025-01-30 15:28:18 -0500 (Thu, 30 Jan 2025) EllapsedTime: 28.7 seconds RetCode: 0 Status: OK