Package: MuData Version: 1.10.0 Command: rm -rf MuData.buildbin-libdir && mkdir MuData.buildbin-libdir && /Users/biocbuild/BBS/utils/build-universal.sh MuData_1.10.0.tar.gz /Library/Frameworks/R.framework/Resources/bin/R MuData.buildbin-libdir StartedAt: 2025-01-31 13:15:12 -0500 (Fri, 31 Jan 2025) EndedAt: 2025-01-31 13:16:09 -0500 (Fri, 31 Jan 2025) EllapsedTime: 56.2 seconds RetCode: 0 Status: OK PackageFile: MuData_1.10.0.tgz PackageFileSize: 2.278 MiB