Package: MuData Version: 1.10.0 Command: /Library/Frameworks/R.framework/Resources/bin/R CMD build --keep-empty-dirs --no-resave-data MuData StartedAt: 2025-01-30 21:12:47 -0500 (Thu, 30 Jan 2025) EndedAt: 2025-01-30 21:20:14 -0500 (Thu, 30 Jan 2025) EllapsedTime: 447.1 seconds RetCode: 0 Status: OK PackageFile: MuData_1.10.0.tar.gz PackageFileSize: 2.235 MiB