Package: MuData Version: 1.10.0 Command: /home/biocbuild/bbs-3.20-bioc/R/bin/R CMD build --keep-empty-dirs --no-resave-data --md5 MuData StartedAt: 2025-02-03 18:25:08 -0500 (Mon, 03 Feb 2025) EndedAt: 2025-02-03 18:27:26 -0500 (Mon, 03 Feb 2025) EllapsedTime: 138.2 seconds RetCode: 0 Status: OK PackageFile: MuData_1.10.0.tar.gz PackageFileSize: 2.069 MiB