Package: MuData Version: 1.10.0 Command: /home/biocbuild/bbs-3.20-bioc/R/bin/R CMD check --install=check:MuData.install-out.txt --library=/home/biocbuild/bbs-3.20-bioc/R/site-library --timings MuData_1.10.0.tar.gz StartedAt: 2025-02-04 00:31:52 -0500 (Tue, 04 Feb 2025) EndedAt: 2025-02-04 00:36:49 -0500 (Tue, 04 Feb 2025) EllapsedTime: 296.3 seconds RetCode: 0 Status: OK CheckDir: MuData.Rcheck Warnings: 0