Package: MuData Version: 1.10.0 Command: F:\biocbuild\bbs-3.20-bioc\R\bin\R.exe CMD check --no-multiarch --install=check:MuData.install-out.txt --library=F:\biocbuild\bbs-3.20-bioc\R\library --no-vignettes --timings MuData_1.10.0.tar.gz StartedAt: 2025-01-31 04:22:48 -0500 (Fri, 31 Jan 2025) EndedAt: 2025-01-31 04:26:23 -0500 (Fri, 31 Jan 2025) EllapsedTime: 214.7 seconds RetCode: 0 Status: OK CheckDir: MuData.Rcheck Warnings: 0