Package: MuData Version: 1.10.0 Command: /home/biocbuild/R/R/bin/R CMD INSTALL MuData StartedAt: 2025-01-30 20:17:35 -0000 (Thu, 30 Jan 2025) EndedAt: 2025-01-30 20:18:05 -0000 (Thu, 30 Jan 2025) EllapsedTime: 29.7 seconds RetCode: 0 Status: OK