Package: Mulcom Version: 1.56.0 Command: rm -rf Mulcom.buildbin-libdir && mkdir Mulcom.buildbin-libdir && F:\biocbuild\bbs-3.20-bioc\R\bin\R.exe CMD INSTALL --build --library=Mulcom.buildbin-libdir Mulcom_1.56.0.tar.gz StartedAt: 2025-02-11 08:58:22 -0500 (Tue, 11 Feb 2025) EndedAt: 2025-02-11 08:58:40 -0500 (Tue, 11 Feb 2025) EllapsedTime: 17.4 seconds RetCode: 0 Status: OK PackageFile: Mulcom_1.56.0.zip PackageFileSize: 1.49 MiB