Package: MultiBaC Version: 1.16.0 Command: /Library/Frameworks/R.framework/Resources/bin/R CMD check --install=check:MultiBaC.install-out.txt --library=/Library/Frameworks/R.framework/Resources/library --no-vignettes --timings MultiBaC_1.16.0.tar.gz StartedAt: 2025-02-05 03:20:06 -0500 (Wed, 05 Feb 2025) EndedAt: 2025-02-05 03:22:49 -0500 (Wed, 05 Feb 2025) EllapsedTime: 162.3 seconds RetCode: 0 Status: OK CheckDir: MultiBaC.Rcheck Warnings: 0