Package: MultiBaC Version: 1.16.0 Command: rm -rf MultiBaC.buildbin-libdir && mkdir MultiBaC.buildbin-libdir && /Users/biocbuild/BBS/utils/build-universal.sh MultiBaC_1.16.0.tar.gz /Library/Frameworks/R.framework/Resources/bin/R MultiBaC.buildbin-libdir StartedAt: 2025-01-31 13:15:24 -0500 (Fri, 31 Jan 2025) EndedAt: 2025-01-31 13:15:36 -0500 (Fri, 31 Jan 2025) EllapsedTime: 12.3 seconds RetCode: 0 Status: OK PackageFile: MultiBaC_1.16.0.tgz PackageFileSize: 1.804 MiB