Package: MultiBaC Version: 1.16.0 Command: /Library/Frameworks/R.framework/Resources/bin/R CMD check --install=check:MultiBaC.install-out.txt --library=/Library/Frameworks/R.framework/Resources/library --no-vignettes --timings MultiBaC_1.16.0.tar.gz StartedAt: 2025-01-31 07:04:55 -0500 (Fri, 31 Jan 2025) EndedAt: 2025-01-31 07:08:35 -0500 (Fri, 31 Jan 2025) EllapsedTime: 219.3 seconds RetCode: 0 Status: OK CheckDir: MultiBaC.Rcheck Warnings: 0