Package: MultiBaC Version: 1.16.0 Command: rm -rf MultiBaC.buildbin-libdir && mkdir MultiBaC.buildbin-libdir && F:\biocbuild\bbs-3.20-bioc\R\bin\R.exe CMD INSTALL --build --library=MultiBaC.buildbin-libdir MultiBaC_1.16.0.tar.gz StartedAt: 2025-01-31 09:08:04 -0500 (Fri, 31 Jan 2025) EndedAt: 2025-01-31 09:08:20 -0500 (Fri, 31 Jan 2025) EllapsedTime: 15.4 seconds RetCode: 0 Status: OK PackageFile: MultiBaC_1.16.0.zip PackageFileSize: 791.8 KiB