Package: MultiBaC Version: 1.16.0 Command: /home/biocbuild/R/R/bin/R CMD build --keep-empty-dirs --no-resave-data MultiBaC StartedAt: 2025-01-31 01:13:45 -0000 (Fri, 31 Jan 2025) EndedAt: 2025-01-31 01:14:57 -0000 (Fri, 31 Jan 2025) EllapsedTime: 72.0 seconds RetCode: 0 Status: OK PackageFile: MultiBaC_1.16.0.tar.gz PackageFileSize: 940.8 KiB