Package: MultiDataSet Version: 1.34.0 Command: /Library/Frameworks/R.framework/Resources/bin/R CMD build --keep-empty-dirs --no-resave-data MultiDataSet StartedAt: 2025-02-04 04:19:08 -0500 (Tue, 04 Feb 2025) EndedAt: 2025-02-04 04:20:24 -0500 (Tue, 04 Feb 2025) EllapsedTime: 76.2 seconds RetCode: 0 Status: OK PackageFile: MultiDataSet_1.34.0.tar.gz PackageFileSize: 495.4 KiB