Package: MultiDataSet Version: 1.34.0 Command: /Library/Frameworks/R.framework/Resources/bin/R CMD build --keep-empty-dirs --no-resave-data MultiDataSet StartedAt: 2025-01-30 21:14:50 -0500 (Thu, 30 Jan 2025) EndedAt: 2025-01-30 21:17:36 -0500 (Thu, 30 Jan 2025) EllapsedTime: 166.0 seconds RetCode: 0 Status: OK PackageFile: MultiDataSet_1.34.0.tar.gz PackageFileSize: 495.3 KiB